BEGIN:VCALENDAR
VERSION:2.0
PRODID:-//GISSaCG - ECPv6.15.13.1//NONSGML v1.0//EN
CALSCALE:GREGORIAN
METHOD:PUBLISH
X-WR-CALNAME:GISSaCG
X-ORIGINAL-URL:https://gissacg.fr
X-WR-CALDESC:Évènements pour GISSaCG
REFRESH-INTERVAL;VALUE=DURATION:PT1H
X-Robots-Tag:noindex
X-PUBLISHED-TTL:PT1H
BEGIN:VTIMEZONE
TZID:Europe/Paris
BEGIN:DAYLIGHT
TZOFFSETFROM:+0100
TZOFFSETTO:+0200
TZNAME:CEST
DTSTART:20240331T010000
END:DAYLIGHT
BEGIN:STANDARD
TZOFFSETFROM:+0200
TZOFFSETTO:+0100
TZNAME:CET
DTSTART:20241027T010000
END:STANDARD
BEGIN:DAYLIGHT
TZOFFSETFROM:+0100
TZOFFSETTO:+0200
TZNAME:CEST
DTSTART:20250330T010000
END:DAYLIGHT
BEGIN:STANDARD
TZOFFSETFROM:+0200
TZOFFSETTO:+0100
TZNAME:CET
DTSTART:20251026T010000
END:STANDARD
BEGIN:DAYLIGHT
TZOFFSETFROM:+0100
TZOFFSETTO:+0200
TZNAME:CEST
DTSTART:20260329T010000
END:DAYLIGHT
BEGIN:STANDARD
TZOFFSETFROM:+0200
TZOFFSETTO:+0100
TZNAME:CET
DTSTART:20261025T010000
END:STANDARD
END:VTIMEZONE
BEGIN:VEVENT
DTSTART;TZID=Europe/Paris:20250515T183000
DTEND;TZID=Europe/Paris:20250515T203000
DTSTAMP:20260420T015423
CREATED:20250509T125726Z
LAST-MODIFIED:20250509T125736Z
UID:4435-1747333800-1747341000@gissacg.fr
SUMMARY:Réunion du CA
DESCRIPTION:
URL:https://gissacg.fr/index.php/event/ca-4/
LOCATION:Salle Roch Stur Perros-Guirec\, rue des 7 Iles\, Perros-Guirec
END:VEVENT
BEGIN:VEVENT
DTSTART;TZID=Europe/Paris:20250516T110000
DTEND;TZID=Europe/Paris:20250516T120000
DTSTAMP:20260420T015423
CREATED:20250508T171959Z
LAST-MODIFIED:20250508T171959Z
UID:4421-1747393200-1747396800@gissacg.fr
SUMMARY:Vernissage Exposition photos du Gissacg à Trestrignel
DESCRIPTION:Invitation vernissage exposition
URL:https://gissacg.fr/index.php/event/vernissage-exposition-photos-du-gissacg-a-trestrignel/
LOCATION:Trestrignel
CATEGORIES:Photo-video
ATTACH;FMTTYPE=image/jpeg:https://gissacg.fr/wp-content/uploads/2025/05/carton-dinvitation-GISSACG_page-0001.jpg
END:VEVENT
END:VCALENDAR