BEGIN:VCALENDAR
VERSION:2.0
PRODID:-//GISSaCG - ECPv6.15.13.1//NONSGML v1.0//EN
CALSCALE:GREGORIAN
METHOD:PUBLISH
X-WR-CALNAME:GISSaCG
X-ORIGINAL-URL:https://gissacg.fr
X-WR-CALDESC:Évènements pour GISSaCG
REFRESH-INTERVAL;VALUE=DURATION:PT1H
X-Robots-Tag:noindex
X-PUBLISHED-TTL:PT1H
BEGIN:VTIMEZONE
TZID:Europe/Paris
BEGIN:DAYLIGHT
TZOFFSETFROM:+0100
TZOFFSETTO:+0200
TZNAME:CEST
DTSTART:20240331T010000
END:DAYLIGHT
BEGIN:STANDARD
TZOFFSETFROM:+0200
TZOFFSETTO:+0100
TZNAME:CET
DTSTART:20241027T010000
END:STANDARD
BEGIN:DAYLIGHT
TZOFFSETFROM:+0100
TZOFFSETTO:+0200
TZNAME:CEST
DTSTART:20250330T010000
END:DAYLIGHT
BEGIN:STANDARD
TZOFFSETFROM:+0200
TZOFFSETTO:+0100
TZNAME:CET
DTSTART:20251026T010000
END:STANDARD
BEGIN:DAYLIGHT
TZOFFSETFROM:+0100
TZOFFSETTO:+0200
TZNAME:CEST
DTSTART:20260329T010000
END:DAYLIGHT
BEGIN:STANDARD
TZOFFSETFROM:+0200
TZOFFSETTO:+0100
TZNAME:CET
DTSTART:20261025T010000
END:STANDARD
END:VTIMEZONE
BEGIN:VEVENT
DTSTART;TZID=Europe/Paris:20250106T080000
DTEND;TZID=Europe/Paris:20250330T170000
DTSTAMP:20260420T051053
CREATED:20250110T125343Z
LAST-MODIFIED:20250110T125343Z
UID:4197-1736150400-1743354000@gissacg.fr
SUMMARY:Exposition Photos de Yann à la Maison du littoral !
DESCRIPTION:Immersion sous-marine : à la découverte de la faune des côtes de Perros-Guirec \nPour plus d’information merci de consulter cet article
URL:https://gissacg.fr/index.php/event/exposition-photos-de-yann-a-la-maison-du-littoral/
LOCATION:Maison du littoral à Ploumanac’h\, Chemin des Douaniers Ploumanac’h\, Perros-Guirec\, France
END:VEVENT
BEGIN:VEVENT
DTSTART;TZID=Europe/Paris:20250302T075000
DTEND;TZID=Europe/Paris:20250302T093000
DTSTAMP:20260420T051053
CREATED:20250112T173333Z
LAST-MODIFIED:20250112T174603Z
UID:4207-1740901800-1740907800@gissacg.fr
SUMMARY:Séance Piscine
DESCRIPTION:Rdv vestiaire collectif\, porte à gauche du bâtiment\, à gauche entrée principale \nLes membres de la commission technique\, vous propose en plus des lignes d ‘eau à votre disposition 3 lignes d ‘eau à Thèmes\, soit: \n– 1 couloir APNÉE \n– 1 couloir ASSISTANCE (pour s’entrainer\, réviser les prises\, les remorquages\, la sécurité RIFAP…) \n– 1 couloir SCAPHANDRE: avec à votre disposition les matériels du club (blocs\, stabs\, détendeurs).
URL:https://gissacg.fr/index.php/event/seance-piscine/
LOCATION:Ti Dour\, 49 av. de Park Nevez\, 22300 Lannion\, France
END:VEVENT
BEGIN:VEVENT
DTSTART;TZID=Europe/Paris:20250303T200000
DTEND;TZID=Europe/Paris:20250303T220000
DTSTAMP:20260420T051053
CREATED:20250110T122747Z
LAST-MODIFIED:20250302T090922Z
UID:4185-1741032000-1741039200@gissacg.fr
SUMMARY:[Annulée] - Soirée photo du lundi
DESCRIPTION:
URL:https://gissacg.fr/index.php/event/soiree-bio-du-lundi-2/
LOCATION:Capitainerie de Perros-Guirec
END:VEVENT
BEGIN:VEVENT
DTSTART;TZID=Europe/Paris:20250309T075000
DTEND;TZID=Europe/Paris:20250309T093000
DTSTAMP:20260420T051053
CREATED:20250112T173610Z
LAST-MODIFIED:20250112T174130Z
UID:4210-1741506600-1741512600@gissacg.fr
SUMMARY:Séance Piscine
DESCRIPTION:Rdv vestiaire collectif\, porte à gauche du bâtiment\, à gauche entrée principale \nLes membres de la commission technique\, vous propose en plus des lignes d ‘eau à votre disposition 3 lignes d ‘eau à Thèmes\, soit: \n– 1 couloir APNÉE \n– 1 couloir ASSISTANCE (pour s’entrainer\, réviser les prises\, les remorquages\, la sécurité RIFAP…) \n– 1 couloir SCAPHANDRE:  à votre disposition les matériels du club (blocs\, stabs\, détendeurs).
URL:https://gissacg.fr/index.php/event/seance-piscine-2/
LOCATION:Ti Dour\, 49 av. de Park Nevez\, 22300 Lannion\, France
END:VEVENT
BEGIN:VEVENT
DTSTART;TZID=Europe/Paris:20250316T075000
DTEND;TZID=Europe/Paris:20250316T093000
DTSTAMP:20260420T051053
CREATED:20250112T175113Z
LAST-MODIFIED:20250112T175113Z
UID:4217-1742111400-1742117400@gissacg.fr
SUMMARY:Séance Piscine
DESCRIPTION:Rdv vestiaire collectif\, porte à gauche du bâtiment\, à gauche entrée principale \nLes membres de la commission technique\, vous propose en plus des lignes d ‘eau à votre disposition 3 lignes d ‘eau à Thèmes\, soit: \n– 1 couloir APNÉE \n– 1 couloir ASSISTANCE (pour s’entrainer\, réviser les prises\, les remorquages\, la sécurité RIFAP…) \n– 1 couloir SCAPHANDRE: avec à votre disposition les matériels du club (blocs\, stabs\, détendeurs).
URL:https://gissacg.fr/index.php/event/seance-piscine-3/
LOCATION:Ti Dour\, 49 av. de Park Nevez\, 22300 Lannion\, France
END:VEVENT
BEGIN:VEVENT
DTSTART;TZID=Europe/Paris:20250323T075000
DTEND;TZID=Europe/Paris:20250323T093000
DTSTAMP:20260420T051053
CREATED:20250112T175408Z
LAST-MODIFIED:20250112T175408Z
UID:4219-1742716200-1742722200@gissacg.fr
SUMMARY:Séance Piscine
DESCRIPTION:Rdv vestiaire collectif\, porte à gauche du bâtiment\, à gauche entrée principale \nLes membres de la commission technique\, vous propose en plus des lignes d ‘eau à votre disposition 3 lignes d ‘eau à Thèmes\, soit: \n– 1 couloir APNÉE \n– 1 couloir ASSISTANCE (pour s’entrainer\, réviser les prises\, les remorquages\, la sécurité RIFAP…) \n– 1 couloir SCAPHANDRE: avec à votre disposition les matériels du club (blocs\, stabs\, détendeurs).
URL:https://gissacg.fr/index.php/event/seance-piscine-4/
LOCATION:Ti Dour\, 49 av. de Park Nevez\, 22300 Lannion\, France
END:VEVENT
END:VCALENDAR