BEGIN:VCALENDAR
VERSION:2.0
PRODID:-//GISSaCG - ECPv6.15.13.1//NONSGML v1.0//EN
CALSCALE:GREGORIAN
METHOD:PUBLISH
X-WR-CALNAME:GISSaCG
X-ORIGINAL-URL:https://gissacg.fr
X-WR-CALDESC:Évènements pour GISSaCG
REFRESH-INTERVAL;VALUE=DURATION:PT1H
X-Robots-Tag:noindex
X-PUBLISHED-TTL:PT1H
BEGIN:VTIMEZONE
TZID:Europe/Paris
BEGIN:DAYLIGHT
TZOFFSETFROM:+0100
TZOFFSETTO:+0200
TZNAME:CEST
DTSTART:20240331T010000
END:DAYLIGHT
BEGIN:STANDARD
TZOFFSETFROM:+0200
TZOFFSETTO:+0100
TZNAME:CET
DTSTART:20241027T010000
END:STANDARD
BEGIN:DAYLIGHT
TZOFFSETFROM:+0100
TZOFFSETTO:+0200
TZNAME:CEST
DTSTART:20250330T010000
END:DAYLIGHT
BEGIN:STANDARD
TZOFFSETFROM:+0200
TZOFFSETTO:+0100
TZNAME:CET
DTSTART:20251026T010000
END:STANDARD
BEGIN:DAYLIGHT
TZOFFSETFROM:+0100
TZOFFSETTO:+0200
TZNAME:CEST
DTSTART:20260329T010000
END:DAYLIGHT
BEGIN:STANDARD
TZOFFSETFROM:+0200
TZOFFSETTO:+0100
TZNAME:CET
DTSTART:20261025T010000
END:STANDARD
END:VTIMEZONE
BEGIN:VEVENT
DTSTART;TZID=Europe/Paris:20250106T080000
DTEND;TZID=Europe/Paris:20250330T170000
DTSTAMP:20260420T064521
CREATED:20250110T125343Z
LAST-MODIFIED:20250110T125343Z
UID:4197-1736150400-1743354000@gissacg.fr
SUMMARY:Exposition Photos de Yann à la Maison du littoral !
DESCRIPTION:Immersion sous-marine : à la découverte de la faune des côtes de Perros-Guirec \nPour plus d’information merci de consulter cet article
URL:https://gissacg.fr/index.php/event/exposition-photos-de-yann-a-la-maison-du-littoral/
LOCATION:Maison du littoral à Ploumanac’h\, Chemin des Douaniers Ploumanac’h\, Perros-Guirec\, France
END:VEVENT
BEGIN:VEVENT
DTSTART;TZID=Europe/Paris:20250202T075000
DTEND;TZID=Europe/Paris:20250202T093000
DTSTAMP:20260420T064521
CREATED:20250112T175544Z
LAST-MODIFIED:20250112T175544Z
UID:4221-1738482600-1738488600@gissacg.fr
SUMMARY:Séance Piscine
DESCRIPTION:Rdv vestiaire collectif\, porte à gauche du bâtiment\, à gauche entrée principale \nLes membres de la commission technique\, vous propose en plus des lignes d ‘eau à votre disposition 3 lignes d ‘eau à Thèmes\, soit: \n– 1 couloir APNÉE \n– 1 couloir ASSISTANCE (pour s’entrainer\, réviser les prises\, les remorquages\, la sécurité RIFAP…) \n– 1 couloir SCAPHANDRE: avec à votre disposition les matériels du club (blocs\, stabs\, détendeurs).
URL:https://gissacg.fr/index.php/event/seance-piscine-5/
LOCATION:Ti Dour\, 49 av. de Park Nevez\, 22300 Lannion\, France
CATEGORIES:Piscine
END:VEVENT
BEGIN:VEVENT
DTSTART;TZID=Europe/Paris:20250202T090000
DTEND;TZID=Europe/Paris:20250202T110000
DTSTAMP:20260420T064521
CREATED:20250110T124130Z
LAST-MODIFIED:20250112T172203Z
UID:4195-1738486800-1738494000@gissacg.fr
SUMMARY:Baptême : Venez découvrir et tester la plongée…
DESCRIPTION:BAPTÊMES de plongée sous-marine en piscine  : Inscription au 06 32 04 71 92 \nPour plus d’information sur l’évènement\, merci de consulter cet article.
URL:https://gissacg.fr/index.php/event/bapteme-venez-decouvrir-et-tester-la-plongee/
LOCATION:Ti Dour\, 49 av. de Park Nevez\, 22300 Lannion\, France
END:VEVENT
BEGIN:VEVENT
DTSTART;TZID=Europe/Paris:20250227T183000
DTEND;TZID=Europe/Paris:20250227T203000
DTSTAMP:20260420T064521
CREATED:20250110T123436Z
LAST-MODIFIED:20250110T123547Z
UID:4190-1740681000-1740688200@gissacg.fr
SUMMARY:Réunion du CA
DESCRIPTION:
URL:https://gissacg.fr/index.php/event/reunion-du-ca-6/
LOCATION:Salle à définir
END:VEVENT
END:VCALENDAR