BEGIN:VCALENDAR
VERSION:2.0
PRODID:-//GISSaCG - ECPv6.15.13.1//NONSGML v1.0//EN
CALSCALE:GREGORIAN
METHOD:PUBLISH
X-WR-CALNAME:GISSaCG
X-ORIGINAL-URL:https://gissacg.fr
X-WR-CALDESC:Évènements pour GISSaCG
REFRESH-INTERVAL;VALUE=DURATION:PT1H
X-Robots-Tag:noindex
X-PUBLISHED-TTL:PT1H
BEGIN:VTIMEZONE
TZID:Europe/Paris
BEGIN:DAYLIGHT
TZOFFSETFROM:+0100
TZOFFSETTO:+0200
TZNAME:CEST
DTSTART:20230326T010000
END:DAYLIGHT
BEGIN:STANDARD
TZOFFSETFROM:+0200
TZOFFSETTO:+0100
TZNAME:CET
DTSTART:20231029T010000
END:STANDARD
BEGIN:DAYLIGHT
TZOFFSETFROM:+0100
TZOFFSETTO:+0200
TZNAME:CEST
DTSTART:20240331T010000
END:DAYLIGHT
BEGIN:STANDARD
TZOFFSETFROM:+0200
TZOFFSETTO:+0100
TZNAME:CET
DTSTART:20241027T010000
END:STANDARD
BEGIN:DAYLIGHT
TZOFFSETFROM:+0100
TZOFFSETTO:+0200
TZNAME:CEST
DTSTART:20250330T010000
END:DAYLIGHT
BEGIN:STANDARD
TZOFFSETFROM:+0200
TZOFFSETTO:+0100
TZNAME:CET
DTSTART:20251026T010000
END:STANDARD
END:VTIMEZONE
BEGIN:VEVENT
DTSTART;TZID=Europe/Paris:20240101T000000
DTEND;TZID=Europe/Paris:20240317T230000
DTSTAMP:20260421T014050
CREATED:20240106T180059Z
LAST-MODIFIED:20240322T181548Z
UID:3737-1704067200-1710716400@gissacg.fr
SUMMARY:Nage en mer (cf. WhatsApp)
DESCRIPTION:
URL:https://gissacg.fr/index.php/event/nage-en-mer-cf-whatsapp/
END:VEVENT
BEGIN:VEVENT
DTSTART;TZID=Europe/Paris:20240204T080000
DTEND;TZID=Europe/Paris:20240204T093000
DTSTAMP:20260421T014050
CREATED:20240105T150735Z
LAST-MODIFIED:20240105T150735Z
UID:3701-1707033600-1707039000@gissacg.fr
SUMMARY:Piscine
DESCRIPTION:
URL:https://gissacg.fr/index.php/event/piscine-18/
LOCATION:Ti Dour\, 49 av. de Park Nevez\, 22300 Lannion\, France
END:VEVENT
BEGIN:VEVENT
DTSTART;TZID=Europe/Paris:20240204T100000
DTEND;TZID=Europe/Paris:20240204T120000
DTSTAMP:20260421T014050
CREATED:20240105T170501Z
LAST-MODIFIED:20240105T170502Z
UID:3713-1707040800-1707048000@gissacg.fr
SUMMARY:Cours - Accidents : ADD (Accident De Désaturation)
DESCRIPTION:
URL:https://gissacg.fr/index.php/event/cours-accidents-add-accident-de-desaturation-2/
LOCATION:Ti Dour\, 49 av. de Park Nevez\, 22300 Lannion\, France
END:VEVENT
BEGIN:VEVENT
DTSTART;TZID=Europe/Paris:20240211T080000
DTEND;TZID=Europe/Paris:20240211T093000
DTSTAMP:20260421T014050
CREATED:20240105T150819Z
LAST-MODIFIED:20240105T150819Z
UID:3703-1707638400-1707643800@gissacg.fr
SUMMARY:Piscine
DESCRIPTION:
URL:https://gissacg.fr/index.php/event/piscine-19/
LOCATION:Ti Dour\, 49 av. de Park Nevez\, 22300 Lannion\, France
END:VEVENT
BEGIN:VEVENT
DTSTART;TZID=Europe/Paris:20240211T100000
DTEND;TZID=Europe/Paris:20240211T120000
DTSTAMP:20260421T014050
CREATED:20240105T171247Z
LAST-MODIFIED:20240105T171247Z
UID:3718-1707645600-1707652800@gissacg.fr
SUMMARY:Cours - Procédures de désaturation cours 1 : Tables de plongées : simple\, consécutive\, procédures particulières
DESCRIPTION:
URL:https://gissacg.fr/index.php/event/cours-procedures-de-desaturation-cours-1-tables-de-plongees-simple-consecutive-procedures-particulieres/
END:VEVENT
BEGIN:VEVENT
DTSTART;TZID=Europe/Paris:20240218T080000
DTEND;TZID=Europe/Paris:20240218T093000
DTSTAMP:20260421T014050
CREATED:20240105T150904Z
LAST-MODIFIED:20240105T150904Z
UID:3705-1708243200-1708248600@gissacg.fr
SUMMARY:Piscine
DESCRIPTION:
URL:https://gissacg.fr/index.php/event/piscine-20/
LOCATION:Ti Dour\, 49 av. de Park Nevez\, 22300 Lannion\, France
END:VEVENT
BEGIN:VEVENT
DTSTART;TZID=Europe/Paris:20240218T100000
DTEND;TZID=Europe/Paris:20240218T120000
DTSTAMP:20260421T014050
CREATED:20240105T171854Z
LAST-MODIFIED:20240105T171854Z
UID:3720-1708250400-1708257600@gissacg.fr
SUMMARY:Cours - Procédures de désaturation :  suite 2 : successives + Ordinateur (utilisation et limite) mélange
DESCRIPTION:
URL:https://gissacg.fr/index.php/event/cours-procedures-de-desaturation-suite-2-successives-ordinateur-utilisation-et-limite-melange-2/
LOCATION:Ti Dour\, 49 av. de Park Nevez\, 22300 Lannion\, France
END:VEVENT
END:VCALENDAR