BEGIN:VCALENDAR
VERSION:2.0
PRODID:-//GISSaCG - ECPv6.15.13.1//NONSGML v1.0//EN
CALSCALE:GREGORIAN
METHOD:PUBLISH
X-WR-CALNAME:GISSaCG
X-ORIGINAL-URL:https://gissacg.fr
X-WR-CALDESC:Évènements pour GISSaCG
REFRESH-INTERVAL;VALUE=DURATION:PT1H
X-Robots-Tag:noindex
X-PUBLISHED-TTL:PT1H
BEGIN:VTIMEZONE
TZID:Europe/Paris
BEGIN:DAYLIGHT
TZOFFSETFROM:+0100
TZOFFSETTO:+0200
TZNAME:CEST
DTSTART:20230326T010000
END:DAYLIGHT
BEGIN:STANDARD
TZOFFSETFROM:+0200
TZOFFSETTO:+0100
TZNAME:CET
DTSTART:20231029T010000
END:STANDARD
BEGIN:DAYLIGHT
TZOFFSETFROM:+0100
TZOFFSETTO:+0200
TZNAME:CEST
DTSTART:20240331T010000
END:DAYLIGHT
BEGIN:STANDARD
TZOFFSETFROM:+0200
TZOFFSETTO:+0100
TZNAME:CET
DTSTART:20241027T010000
END:STANDARD
BEGIN:DAYLIGHT
TZOFFSETFROM:+0100
TZOFFSETTO:+0200
TZNAME:CEST
DTSTART:20250330T010000
END:DAYLIGHT
BEGIN:STANDARD
TZOFFSETFROM:+0200
TZOFFSETTO:+0100
TZNAME:CET
DTSTART:20251026T010000
END:STANDARD
END:VTIMEZONE
BEGIN:VEVENT
DTSTART;TZID=Europe/Paris:20240101T000000
DTEND;TZID=Europe/Paris:20240317T230000
DTSTAMP:20260421T031155
CREATED:20240106T180059Z
LAST-MODIFIED:20240322T181548Z
UID:3737-1704067200-1710716400@gissacg.fr
SUMMARY:Nage en mer (cf. WhatsApp)
DESCRIPTION:
URL:https://gissacg.fr/index.php/event/nage-en-mer-cf-whatsapp/
END:VEVENT
BEGIN:VEVENT
DTSTART;TZID=Europe/Paris:20240114T080000
DTEND;TZID=Europe/Paris:20240114T093000
DTSTAMP:20260421T031155
CREATED:20240105T144831Z
LAST-MODIFIED:20240105T144831Z
UID:3691-1705219200-1705224600@gissacg.fr
SUMMARY:Piscine
DESCRIPTION:
URL:https://gissacg.fr/index.php/event/piscine-15/
LOCATION:Ti Dour\, 49 av. de Park Nevez\, 22300 Lannion\, France
END:VEVENT
BEGIN:VEVENT
DTSTART;TZID=Europe/Paris:20240114T100000
DTEND;TZID=Europe/Paris:20240114T120000
DTSTAMP:20260421T031155
CREATED:20240105T145202Z
LAST-MODIFIED:20240105T145202Z
UID:3693-1705226400-1705233600@gissacg.fr
SUMMARY:Pot de début de saison
DESCRIPTION:
URL:https://gissacg.fr/index.php/event/pot-de-debut-de-saison/
LOCATION:Le Vincennes\, 4 Avenue de Park Nevez\, 22300 Lannion\, France
END:VEVENT
BEGIN:VEVENT
DTSTART;TZID=Europe/Paris:20240121T080000
DTEND;TZID=Europe/Paris:20240121T093000
DTSTAMP:20260421T031155
CREATED:20240105T150528Z
LAST-MODIFIED:20240105T150528Z
UID:3697-1705824000-1705829400@gissacg.fr
SUMMARY:Piscine
DESCRIPTION:
URL:https://gissacg.fr/index.php/event/piscine-16/
LOCATION:Ti Dour\, 49 av. de Park Nevez\, 22300 Lannion\, France
END:VEVENT
BEGIN:VEVENT
DTSTART;TZID=Europe/Paris:20240121T100000
DTEND;TZID=Europe/Paris:20240121T120000
DTSTAMP:20260421T031155
CREATED:20240105T151044Z
LAST-MODIFIED:20240105T151106Z
UID:3707-1705831200-1705838400@gissacg.fr
SUMMARY:Cours - Accidents : Barotraumatismes\, froid
DESCRIPTION:
URL:https://gissacg.fr/index.php/event/cours-accidents-barotraumatismes-froid/
LOCATION:Ti Dour\, 49 av. de Park Nevez\, 22300 Lannion\, France
END:VEVENT
BEGIN:VEVENT
DTSTART;TZID=Europe/Paris:20240122T200000
DTEND;TZID=Europe/Paris:20240122T220000
DTSTAMP:20260421T031155
CREATED:20240107T195605Z
LAST-MODIFIED:20240107T195605Z
UID:3777-1705953600-1705960800@gissacg.fr
SUMMARY:Commission Photo Interclub : Prez & discussion
DESCRIPTION:Afin de discuter autour de vos clichés mais aussi\, pour répondre à vos problématiques en photographies sous-marines. \nPour cette 1ère soirée 2024\, au programme : \n\nLumière naturelle\nMesure de lumière\nPrésentation des catégories du challenge grain de café 2024\n…discussion autour de vos photos\n\nSi vous le souhaitez\, pensez à apporter sur clé USB\, 1 ou 2 photos (format jpg)\, sur lesquelles vous voulez échanger et/ou discuter de points techniques ou tous autres questionnements. \nVoili\, voilà\, \nVenez nombreux\, cette soirée est ouverte à tous les membres des clubs\, \nMême si vous n’êtes pas photographes\, ces soirées peuvent vous intéresser\, et vous faire découvrir la photo sous-marine : une activité accessible à tous les plongeurs !
URL:https://gissacg.fr/index.php/event/commission-photo-interclub-prez-discussion/
LOCATION:Capitainerie de Perros-Guirec
END:VEVENT
BEGIN:VEVENT
DTSTART;TZID=Europe/Paris:20240126T183000
DTEND;TZID=Europe/Paris:20240126T203000
DTSTAMP:20260421T031155
CREATED:20240105T150428Z
LAST-MODIFIED:20240105T150428Z
UID:3695-1706293800-1706301000@gissacg.fr
SUMMARY:CA
DESCRIPTION:
URL:https://gissacg.fr/index.php/event/ca-3/
END:VEVENT
BEGIN:VEVENT
DTSTART;TZID=Europe/Paris:20240128T080000
DTEND;TZID=Europe/Paris:20240128T093000
DTSTAMP:20260421T031155
CREATED:20240105T150621Z
LAST-MODIFIED:20240105T150621Z
UID:3699-1706428800-1706434200@gissacg.fr
SUMMARY:Piscine
DESCRIPTION:
URL:https://gissacg.fr/index.php/event/piscine-17/
LOCATION:Ti Dour\, 49 av. de Park Nevez\, 22300 Lannion\, France
END:VEVENT
BEGIN:VEVENT
DTSTART;TZID=Europe/Paris:20240128T100000
DTEND;TZID=Europe/Paris:20240128T120000
DTSTAMP:20260421T031155
CREATED:20240105T170032Z
LAST-MODIFIED:20240105T170055Z
UID:3710-1706436000-1706443200@gissacg.fr
SUMMARY:Cours - Accidents : Accidents toxiques ( essoufflement\, narcose )\, hypoxie info --> nitrox
DESCRIPTION:
URL:https://gissacg.fr/index.php/event/cours-accidents-accidents-toxiques-essoufflement-narcose-hypoxie-info-nitrox/
LOCATION:Ti Dour\, 49 av. de Park Nevez\, 22300 Lannion\, France
END:VEVENT
END:VCALENDAR