BEGIN:VCALENDAR
VERSION:2.0
PRODID:-//GISSaCG - ECPv6.15.13.1//NONSGML v1.0//EN
CALSCALE:GREGORIAN
METHOD:PUBLISH
X-ORIGINAL-URL:https://gissacg.fr
X-WR-CALDESC:Évènements pour GISSaCG
REFRESH-INTERVAL;VALUE=DURATION:PT1H
X-Robots-Tag:noindex
X-PUBLISHED-TTL:PT1H
BEGIN:VTIMEZONE
TZID:Europe/Paris
BEGIN:DAYLIGHT
TZOFFSETFROM:+0100
TZOFFSETTO:+0200
TZNAME:CEST
DTSTART:20220327T010000
END:DAYLIGHT
BEGIN:STANDARD
TZOFFSETFROM:+0200
TZOFFSETTO:+0100
TZNAME:CET
DTSTART:20221030T010000
END:STANDARD
BEGIN:DAYLIGHT
TZOFFSETFROM:+0100
TZOFFSETTO:+0200
TZNAME:CEST
DTSTART:20230326T010000
END:DAYLIGHT
BEGIN:STANDARD
TZOFFSETFROM:+0200
TZOFFSETTO:+0100
TZNAME:CET
DTSTART:20231029T010000
END:STANDARD
BEGIN:DAYLIGHT
TZOFFSETFROM:+0100
TZOFFSETTO:+0200
TZNAME:CEST
DTSTART:20240331T010000
END:DAYLIGHT
BEGIN:STANDARD
TZOFFSETFROM:+0200
TZOFFSETTO:+0100
TZNAME:CET
DTSTART:20241027T010000
END:STANDARD
END:VTIMEZONE
BEGIN:VEVENT
DTSTART;TZID=Europe/Paris:20230127T183000
DTEND;TZID=Europe/Paris:20230127T203000
DTSTAMP:20260421T210458
CREATED:20230109T130835Z
LAST-MODIFIED:20230109T130835Z
UID:2494-1674844200-1674851400@gissacg.fr
SUMMARY:Réunion du CA
DESCRIPTION:
URL:https://gissacg.fr/index.php/event/reunion-du-ca-4/
LOCATION:Salle Roch Stur Perros-Guirec\, rue des 7 Iles\, Perros-Guirec
END:VEVENT
BEGIN:VEVENT
DTSTART;TZID=Europe/Paris:20230128T160000
DTEND;TZID=Europe/Paris:20230128T200000
DTSTAMP:20260421T210458
CREATED:20230124T125058Z
LAST-MODIFIED:20230124T125058Z
UID:2557-1674921600-1674936000@gissacg.fr
SUMMARY:Le mont sous-marin du Sanctuaire de Malpelo
DESCRIPTION:
URL:https://gissacg.fr/index.php/event/le-mont-sous-marin-du-sanctuaire-de-malpelo/
END:VEVENT
BEGIN:VEVENT
DTSTART;TZID=Europe/Paris:20230129T080000
DTEND;TZID=Europe/Paris:20230129T100000
DTSTAMP:20260421T210458
CREATED:20230123T124642Z
LAST-MODIFIED:20230123T124642Z
UID:2542-1674979200-1674986400@gissacg.fr
SUMMARY:Piscine
DESCRIPTION:
URL:https://gissacg.fr/index.php/event/piscine-13/
LOCATION:Ti Dour\, 49 av. de Park Nevez\, 22300 Lannion\, France
END:VEVENT
BEGIN:VEVENT
DTSTART;TZID=Europe/Paris:20230129T100000
DTEND;TZID=Europe/Paris:20230129T120000
DTSTAMP:20260421T210458
CREATED:20230123T125611Z
LAST-MODIFIED:20230123T125611Z
UID:2546-1674986400-1674993600@gissacg.fr
SUMMARY:Cours débutants N°2
DESCRIPTION:
URL:https://gissacg.fr/index.php/event/cours-debutants-n2-2/
LOCATION:Ti Dour\, 49 av. de Park Nevez\, 22300 Lannion\, France
END:VEVENT
END:VCALENDAR