BEGIN:VCALENDAR
VERSION:2.0
PRODID:-//GISSaCG - ECPv6.15.13.1//NONSGML v1.0//EN
CALSCALE:GREGORIAN
METHOD:PUBLISH
X-WR-CALNAME:GISSaCG
X-ORIGINAL-URL:https://gissacg.fr
X-WR-CALDESC:Évènements pour GISSaCG
REFRESH-INTERVAL;VALUE=DURATION:PT1H
X-Robots-Tag:noindex
X-PUBLISHED-TTL:PT1H
BEGIN:VTIMEZONE
TZID:Europe/Paris
BEGIN:DAYLIGHT
TZOFFSETFROM:+0100
TZOFFSETTO:+0200
TZNAME:CEST
DTSTART:20210328T010000
END:DAYLIGHT
BEGIN:STANDARD
TZOFFSETFROM:+0200
TZOFFSETTO:+0100
TZNAME:CET
DTSTART:20211031T010000
END:STANDARD
BEGIN:DAYLIGHT
TZOFFSETFROM:+0100
TZOFFSETTO:+0200
TZNAME:CEST
DTSTART:20220327T010000
END:DAYLIGHT
BEGIN:STANDARD
TZOFFSETFROM:+0200
TZOFFSETTO:+0100
TZNAME:CET
DTSTART:20221030T010000
END:STANDARD
BEGIN:DAYLIGHT
TZOFFSETFROM:+0100
TZOFFSETTO:+0200
TZNAME:CEST
DTSTART:20230326T010000
END:DAYLIGHT
BEGIN:STANDARD
TZOFFSETFROM:+0200
TZOFFSETTO:+0100
TZNAME:CET
DTSTART:20231029T010000
END:STANDARD
END:VTIMEZONE
BEGIN:VEVENT
DTSTART;TZID=Europe/Paris:20220109T075000
DTEND;TZID=Europe/Paris:20220109T100000
DTSTAMP:20260422T141905
CREATED:20220107T121143Z
LAST-MODIFIED:20220107T121143Z
UID:1906-1641714600-1641722400@gissacg.fr
SUMMARY:Piscine
DESCRIPTION:
URL:https://gissacg.fr/index.php/event/piscine-9/
LOCATION:Ti Dour\, 49 av. de Park Nevez\, 22300 Lannion\, France
END:VEVENT
BEGIN:VEVENT
DTSTART;TZID=Europe/Paris:20220116T075000
DTEND;TZID=Europe/Paris:20220116T100000
DTSTAMP:20260422T141905
CREATED:20220107T121317Z
LAST-MODIFIED:20220107T121317Z
UID:1908-1642319400-1642327200@gissacg.fr
SUMMARY:Piscine
DESCRIPTION:
URL:https://gissacg.fr/index.php/event/piscine-10/
LOCATION:Ti Dour\, 49 av. de Park Nevez\, 22300 Lannion\, France
END:VEVENT
BEGIN:VEVENT
DTSTART;TZID=Europe/Paris:20220123T075000
DTEND;TZID=Europe/Paris:20220123T100000
DTSTAMP:20260422T141905
CREATED:20220107T121353Z
LAST-MODIFIED:20220107T121353Z
UID:1910-1642924200-1642932000@gissacg.fr
SUMMARY:Piscine
DESCRIPTION:
URL:https://gissacg.fr/index.php/event/piscine-11/
LOCATION:Ti Dour\, 49 av. de Park Nevez\, 22300 Lannion\, France
END:VEVENT
BEGIN:VEVENT
DTSTART;TZID=Europe/Paris:20220123T100000
DTEND;TZID=Europe/Paris:20220123T120000
DTSTAMP:20260422T141905
CREATED:20220107T121706Z
LAST-MODIFIED:20220107T121706Z
UID:1914-1642932000-1642939200@gissacg.fr
SUMMARY:Cours débutant n°1
DESCRIPTION:
URL:https://gissacg.fr/index.php/event/cours-debutant-n1-2/
LOCATION:Ti Dour\, 49 av. de Park Nevez\, 22300 Lannion\, France
END:VEVENT
BEGIN:VEVENT
DTSTART;TZID=Europe/Paris:20220130T075000
DTEND;TZID=Europe/Paris:20220130T100000
DTSTAMP:20260422T141905
CREATED:20220107T121428Z
LAST-MODIFIED:20220107T121428Z
UID:1912-1643529000-1643536800@gissacg.fr
SUMMARY:Piscine
DESCRIPTION:
URL:https://gissacg.fr/index.php/event/piscine-12/
LOCATION:Ti Dour\, 49 av. de Park Nevez\, 22300 Lannion\, France
END:VEVENT
BEGIN:VEVENT
DTSTART;TZID=Europe/Paris:20220130T100000
DTEND;TZID=Europe/Paris:20220130T120000
DTSTAMP:20260422T141905
CREATED:20220107T121743Z
LAST-MODIFIED:20220107T121743Z
UID:1916-1643536800-1643544000@gissacg.fr
SUMMARY:Cours débutant n°2
DESCRIPTION:
URL:https://gissacg.fr/index.php/event/cours-debutant-n2/
LOCATION:Ti Dour\, 49 av. de Park Nevez\, 22300 Lannion\, France
END:VEVENT
END:VCALENDAR