BEGIN:VCALENDAR
VERSION:2.0
PRODID:-//GISSaCG - ECPv6.15.13.1//NONSGML v1.0//EN
CALSCALE:GREGORIAN
METHOD:PUBLISH
X-ORIGINAL-URL:https://gissacg.fr
X-WR-CALDESC:Évènements pour GISSaCG
REFRESH-INTERVAL;VALUE=DURATION:PT1H
X-Robots-Tag:noindex
X-PUBLISHED-TTL:PT1H
BEGIN:VTIMEZONE
TZID:Europe/Paris
BEGIN:DAYLIGHT
TZOFFSETFROM:+0100
TZOFFSETTO:+0200
TZNAME:CEST
DTSTART:20180325T010000
END:DAYLIGHT
BEGIN:STANDARD
TZOFFSETFROM:+0200
TZOFFSETTO:+0100
TZNAME:CET
DTSTART:20181028T010000
END:STANDARD
BEGIN:DAYLIGHT
TZOFFSETFROM:+0100
TZOFFSETTO:+0200
TZNAME:CEST
DTSTART:20190331T010000
END:DAYLIGHT
BEGIN:STANDARD
TZOFFSETFROM:+0200
TZOFFSETTO:+0100
TZNAME:CET
DTSTART:20191027T010000
END:STANDARD
BEGIN:DAYLIGHT
TZOFFSETFROM:+0100
TZOFFSETTO:+0200
TZNAME:CEST
DTSTART:20200329T010000
END:DAYLIGHT
BEGIN:STANDARD
TZOFFSETFROM:+0200
TZOFFSETTO:+0100
TZNAME:CET
DTSTART:20201025T010000
END:STANDARD
END:VTIMEZONE
BEGIN:VEVENT
DTSTART;TZID=Europe/Paris:20191018T183000
DTEND;TZID=Europe/Paris:20191018T203000
DTSTAMP:20260424T012512
CREATED:20191013T073441Z
LAST-MODIFIED:20191013T073657Z
UID:716-1571423400-1571430600@gissacg.fr
SUMMARY:CA - prépa AG du 9 nov19
DESCRIPTION:
URL:https://gissacg.fr/index.php/event/ca-prepa-ag-du-9-nov19/
LOCATION:tennis club tregastel
CATEGORIES:CA
END:VEVENT
END:VCALENDAR