BEGIN:VCALENDAR
VERSION:2.0
PRODID:-//GISSaCG - ECPv6.15.13.1//NONSGML v1.0//EN
CALSCALE:GREGORIAN
METHOD:PUBLISH
X-ORIGINAL-URL:https://gissacg.fr
X-WR-CALDESC:Évènements pour GISSaCG
REFRESH-INTERVAL;VALUE=DURATION:PT1H
X-Robots-Tag:noindex
X-PUBLISHED-TTL:PT1H
BEGIN:VTIMEZONE
TZID:Europe/Paris
BEGIN:DAYLIGHT
TZOFFSETFROM:+0100
TZOFFSETTO:+0200
TZNAME:CEST
DTSTART:20210328T010000
END:DAYLIGHT
BEGIN:STANDARD
TZOFFSETFROM:+0200
TZOFFSETTO:+0100
TZNAME:CET
DTSTART:20211031T010000
END:STANDARD
BEGIN:DAYLIGHT
TZOFFSETFROM:+0100
TZOFFSETTO:+0200
TZNAME:CEST
DTSTART:20220327T010000
END:DAYLIGHT
BEGIN:STANDARD
TZOFFSETFROM:+0200
TZOFFSETTO:+0100
TZNAME:CET
DTSTART:20221030T010000
END:STANDARD
BEGIN:DAYLIGHT
TZOFFSETFROM:+0100
TZOFFSETTO:+0200
TZNAME:CEST
DTSTART:20230326T010000
END:DAYLIGHT
BEGIN:STANDARD
TZOFFSETFROM:+0200
TZOFFSETTO:+0100
TZNAME:CET
DTSTART:20231029T010000
END:STANDARD
END:VTIMEZONE
BEGIN:VEVENT
DTSTART;TZID=Europe/Paris:20220305T140000
DTEND;TZID=Europe/Paris:20220305T193000
DTSTAMP:20260423T005757
CREATED:20220216T201059Z
LAST-MODIFIED:20220216T201412Z
UID:1968-1646488800-1646508600@gissacg.fr
SUMMARY:APECS - 25 ans
DESCRIPTION:Pour ses 25 ans\, l’APECS propose un après-midi d’échange sur les requins\, Samedi 5 mars 2022\, au palais des congrès de Perros-Guirec. \nLe programme
URL:https://gissacg.fr/index.php/event/apecs-25-ans/
LOCATION:Palais des Congrès – Perros-Guirec\, 1 Rue du Maréchal Foch\,\, Perros-Guirec\, 22700\, France
CATEGORIES:Animation
END:VEVENT
END:VCALENDAR