BEGIN:VCALENDAR
VERSION:2.0
PRODID:-//GISSaCG - ECPv6.15.13.1//NONSGML v1.0//EN
CALSCALE:GREGORIAN
METHOD:PUBLISH
X-ORIGINAL-URL:https://gissacg.fr
X-WR-CALDESC:Évènements pour GISSaCG
REFRESH-INTERVAL;VALUE=DURATION:PT1H
X-Robots-Tag:noindex
X-PUBLISHED-TTL:PT1H
BEGIN:VTIMEZONE
TZID:Europe/Paris
BEGIN:DAYLIGHT
TZOFFSETFROM:+0100
TZOFFSETTO:+0200
TZNAME:CEST
DTSTART:20250330T010000
END:DAYLIGHT
BEGIN:STANDARD
TZOFFSETFROM:+0200
TZOFFSETTO:+0100
TZNAME:CET
DTSTART:20251026T010000
END:STANDARD
BEGIN:DAYLIGHT
TZOFFSETFROM:+0100
TZOFFSETTO:+0200
TZNAME:CEST
DTSTART:20260329T010000
END:DAYLIGHT
BEGIN:STANDARD
TZOFFSETFROM:+0200
TZOFFSETTO:+0100
TZNAME:CET
DTSTART:20261025T010000
END:STANDARD
BEGIN:DAYLIGHT
TZOFFSETFROM:+0100
TZOFFSETTO:+0200
TZNAME:CEST
DTSTART:20270328T010000
END:DAYLIGHT
BEGIN:STANDARD
TZOFFSETFROM:+0200
TZOFFSETTO:+0100
TZNAME:CET
DTSTART:20271031T010000
END:STANDARD
END:VTIMEZONE
BEGIN:VEVENT
DTSTART;TZID=Europe/Paris:20260329T100000
DTEND;TZID=Europe/Paris:20260329T110000
DTSTAMP:20260419T155404
CREATED:20260325T213857Z
LAST-MODIFIED:20260325T213857Z
UID:5055-1774778400-1774782000@gissacg.fr
SUMMARY:Manipulation de la station de gonflage et oxygénothérapie
DESCRIPTION:pour les N3 et + ainsi que le responsable TIV : séance de « recyclage » par Michel LC \nde la manipulation de la station de gonflage \n \n+ délivrance oxygénothérapie \n\n\n\n\n\n\n\n\n\n\n\n\n\n\n\n\nCe « recyclage » est obligatoire pour pouvoir gonfler chaque saison. Pour celles et ceux ne pouvant être présent.e.s\, une 2eme séance sera proposée le dimanche suivant 5 avril. \nNB : Pour les nouveaux adhérents\, la présence à une des deux séances de formation sera complétée cette année par l’attribution d’un « tuteur » pour les accompagner sur plusieurs gonflages avant de les laisser en autonomie.
URL:https://gissacg.fr/index.php/event/manipulation-de-la-station-de-gonflage-et-oxygenotherapie/
LOCATION:local de gonflage
CATEGORIES:Cours
END:VEVENT
END:VCALENDAR