BEGIN:VCALENDAR
VERSION:2.0
PRODID:-//GISSaCG - ECPv6.15.13.1//NONSGML v1.0//EN
CALSCALE:GREGORIAN
METHOD:PUBLISH
X-WR-CALNAME:GISSaCG
X-ORIGINAL-URL:https://gissacg.fr
X-WR-CALDESC:Évènements pour GISSaCG
REFRESH-INTERVAL;VALUE=DURATION:PT1H
X-Robots-Tag:noindex
X-PUBLISHED-TTL:PT1H
BEGIN:VTIMEZONE
TZID:Europe/Paris
BEGIN:DAYLIGHT
TZOFFSETFROM:+0100
TZOFFSETTO:+0200
TZNAME:CEST
DTSTART:20220327T010000
END:DAYLIGHT
BEGIN:STANDARD
TZOFFSETFROM:+0200
TZOFFSETTO:+0100
TZNAME:CET
DTSTART:20221030T010000
END:STANDARD
BEGIN:DAYLIGHT
TZOFFSETFROM:+0100
TZOFFSETTO:+0200
TZNAME:CEST
DTSTART:20230326T010000
END:DAYLIGHT
BEGIN:STANDARD
TZOFFSETFROM:+0200
TZOFFSETTO:+0100
TZNAME:CET
DTSTART:20231029T010000
END:STANDARD
BEGIN:DAYLIGHT
TZOFFSETFROM:+0100
TZOFFSETTO:+0200
TZNAME:CEST
DTSTART:20240331T010000
END:DAYLIGHT
BEGIN:STANDARD
TZOFFSETFROM:+0200
TZOFFSETTO:+0100
TZNAME:CET
DTSTART:20241027T010000
END:STANDARD
END:VTIMEZONE
BEGIN:VEVENT
DTSTART;TZID=Europe/Paris:20231202T170000
DTEND;TZID=Europe/Paris:20231202T190000
DTSTAMP:20260421T061224
CREATED:20231122T103336Z
LAST-MODIFIED:20231122T103336Z
UID:3455-1701536400-1701543600@gissacg.fr
SUMMARY:AG 2023 au Centre Nautique de Perros-Guirec
DESCRIPTION:suivi d’un Pot \nboissons offertes\, contributions à grignoter bienvenues \n 
URL:https://gissacg.fr/index.php/event/ag-2023-au-centre-nautique-de-perros-guirec/
LOCATION:CNPG\, Plage de Trestraou\, Perros-Guirec\, 22700\, France
CATEGORIES:Animation,CA
ORGANIZER;CN="Jean-Luc Halper":MAILTO:president@gissacg.fr
END:VEVENT
END:VCALENDAR