BEGIN:VCALENDAR
VERSION:2.0
PRODID:-//GISSaCG - ECPv6.15.13.1//NONSGML v1.0//EN
CALSCALE:GREGORIAN
METHOD:PUBLISH
X-ORIGINAL-URL:https://gissacg.fr
X-WR-CALDESC:Évènements pour GISSaCG
REFRESH-INTERVAL;VALUE=DURATION:PT1H
X-Robots-Tag:noindex
X-PUBLISHED-TTL:PT1H
BEGIN:VTIMEZONE
TZID:Europe/Paris
BEGIN:DAYLIGHT
TZOFFSETFROM:+0100
TZOFFSETTO:+0200
TZNAME:CEST
DTSTART:20200329T010000
END:DAYLIGHT
BEGIN:STANDARD
TZOFFSETFROM:+0200
TZOFFSETTO:+0100
TZNAME:CET
DTSTART:20201025T010000
END:STANDARD
BEGIN:DAYLIGHT
TZOFFSETFROM:+0100
TZOFFSETTO:+0200
TZNAME:CEST
DTSTART:20210328T010000
END:DAYLIGHT
BEGIN:STANDARD
TZOFFSETFROM:+0200
TZOFFSETTO:+0100
TZNAME:CET
DTSTART:20211031T010000
END:STANDARD
BEGIN:DAYLIGHT
TZOFFSETFROM:+0100
TZOFFSETTO:+0200
TZNAME:CEST
DTSTART:20220327T010000
END:DAYLIGHT
BEGIN:STANDARD
TZOFFSETFROM:+0200
TZOFFSETTO:+0100
TZNAME:CET
DTSTART:20221030T010000
END:STANDARD
END:VTIMEZONE
BEGIN:VEVENT
DTSTART;VALUE=DATE:20211101
DTEND;VALUE=DATE:20220101
DTSTAMP:20260422T183823
CREATED:20211117T205436Z
LAST-MODIFIED:20211130T181722Z
UID:1803-1635724800-1640995199@gissacg.fr
SUMMARY:Inscription au club
DESCRIPTION:Les inscriptions au clubs sont ouvertes. Pour plus d’informations consultez cette page
URL:https://gissacg.fr/index.php/event/inscription-au-club/
END:VEVENT
BEGIN:VEVENT
DTSTART;TZID=Europe/Paris:20211120T163000
DTEND;TZID=Europe/Paris:20211120T190000
DTSTAMP:20260422T183823
CREATED:20211114T165144Z
LAST-MODIFIED:20211115T165121Z
UID:1784-1637425800-1637434800@gissacg.fr
SUMMARY:Assemblée générale 2021
DESCRIPTION:L’assemblée générale du GISSACG se tiendra à la salle du CNPG à Trestatou (salle au 1er étage) samedi 2à/11/2021 à 16h30. \nL’assemblée se tiendra SANS PASS SANITAIRE\, dans le respect des gestes barrières\, masques obligatoire\, gel hydroalcoolique et distanciation.\n\nCela permettra aux membres n’ayant pas de pass sanitaire de participer. \nEn contre partie\, nous ne pourrons pas faire de pot au CNPG\, à l’issue de l’AG (Mais nous pourrons\nallez prendre un pot à l’extérieur !!!)
URL:https://gissacg.fr/index.php/event/assemblee-generale-2021/
LOCATION:CNPG\, Plage de Trestraou\, Perros-Guirec\, 22700\, France
END:VEVENT
END:VCALENDAR