BEGIN:VCALENDAR
VERSION:2.0
PRODID:-//GISSaCG - ECPv6.15.13.1//NONSGML v1.0//EN
CALSCALE:GREGORIAN
METHOD:PUBLISH
X-ORIGINAL-URL:https://gissacg.fr
X-WR-CALDESC:Évènements pour GISSaCG
REFRESH-INTERVAL;VALUE=DURATION:PT1H
X-Robots-Tag:noindex
X-PUBLISHED-TTL:PT1H
BEGIN:VTIMEZONE
TZID:Europe/Paris
BEGIN:DAYLIGHT
TZOFFSETFROM:+0100
TZOFFSETTO:+0200
TZNAME:CEST
DTSTART:20190331T010000
END:DAYLIGHT
BEGIN:STANDARD
TZOFFSETFROM:+0200
TZOFFSETTO:+0100
TZNAME:CET
DTSTART:20191027T010000
END:STANDARD
BEGIN:DAYLIGHT
TZOFFSETFROM:+0100
TZOFFSETTO:+0200
TZNAME:CEST
DTSTART:20200329T010000
END:DAYLIGHT
BEGIN:STANDARD
TZOFFSETFROM:+0200
TZOFFSETTO:+0100
TZNAME:CET
DTSTART:20201025T010000
END:STANDARD
BEGIN:DAYLIGHT
TZOFFSETFROM:+0100
TZOFFSETTO:+0200
TZNAME:CEST
DTSTART:20210328T010000
END:DAYLIGHT
BEGIN:STANDARD
TZOFFSETFROM:+0200
TZOFFSETTO:+0100
TZNAME:CET
DTSTART:20211031T010000
END:STANDARD
END:VTIMEZONE
BEGIN:VEVENT
DTSTART;TZID=Europe/Paris:20201111T180000
DTEND;TZID=Europe/Paris:20201111T190000
DTSTAMP:20260423T094934
CREATED:20201111T154440Z
LAST-MODIFIED:20201111T154440Z
UID:1263-1605117600-1605121200@gissacg.fr
SUMMARY:OBJECTIF : essayer et valider un ou des outils de présentations et de réunions
DESCRIPTION:Salut à tous \nlors de la dernière AG nous avons constaté que par moment certains d’entre nous recevaient l’image mais pas le son et nous pensons qu’il est possible d’améliorer les prochaines communications \nnous recherchons un outil adapté à nos futures réunions (AG\, CA\, formations et communications diverses) \nJean Christophe organise à 18 h un session utilisant un nouvel outil dans le but de préparer notre prochaine réunion de CA en comparant les deux outils si besoin \nPour plus de réalisme\, il est souhaitable que nous soyons suffisamment nombreux \nça nous donne aussi l’occasion de discuter du futur fonctionnement du GISSACG (adhésion\, piscine\, formation…) avant le CA \nle zident
URL:https://gissacg.fr/index.php/event/objectif-essayer-et-valider-un-ou-des-outils-de-presentations-et-de-reunions/
LOCATION:TELEPRESENCE
END:VEVENT
END:VCALENDAR