BEGIN:VCALENDAR
VERSION:2.0
PRODID:-//GISSaCG - ECPv6.15.13.1//NONSGML v1.0//EN
CALSCALE:GREGORIAN
METHOD:PUBLISH
X-WR-CALNAME:GISSaCG
X-ORIGINAL-URL:https://gissacg.fr
X-WR-CALDESC:Évènements pour GISSaCG
REFRESH-INTERVAL;VALUE=DURATION:PT1H
X-Robots-Tag:noindex
X-PUBLISHED-TTL:PT1H
BEGIN:VTIMEZONE
TZID:Europe/Paris
BEGIN:DAYLIGHT
TZOFFSETFROM:+0100
TZOFFSETTO:+0200
TZNAME:CEST
DTSTART:20180325T010000
END:DAYLIGHT
BEGIN:STANDARD
TZOFFSETFROM:+0200
TZOFFSETTO:+0100
TZNAME:CET
DTSTART:20181028T010000
END:STANDARD
BEGIN:DAYLIGHT
TZOFFSETFROM:+0100
TZOFFSETTO:+0200
TZNAME:CEST
DTSTART:20190331T010000
END:DAYLIGHT
BEGIN:STANDARD
TZOFFSETFROM:+0200
TZOFFSETTO:+0100
TZNAME:CET
DTSTART:20191027T010000
END:STANDARD
BEGIN:DAYLIGHT
TZOFFSETFROM:+0100
TZOFFSETTO:+0200
TZNAME:CEST
DTSTART:20200329T010000
END:DAYLIGHT
BEGIN:STANDARD
TZOFFSETFROM:+0200
TZOFFSETTO:+0100
TZNAME:CET
DTSTART:20201025T010000
END:STANDARD
END:VTIMEZONE
BEGIN:VEVENT
DTSTART;TZID=Europe/Paris:20190113T075000
DTEND;TZID=Europe/Paris:20190113T093000
DTSTAMP:20260424T142218
CREATED:20190103T093734Z
LAST-MODIFIED:20190103T093734Z
UID:479-1547365800-1547371800@gissacg.fr
SUMMARY:Piscine
DESCRIPTION:
URL:https://gissacg.fr/index.php/event/piscine-6/
LOCATION:Ti Dour\, 49 av. de Park Nevez\, 22300 Lannion\, France
CATEGORIES:Piscine
END:VEVENT
BEGIN:VEVENT
DTSTART;TZID=Europe/Paris:20190113T100000
DTEND;TZID=Europe/Paris:20190113T120000
DTSTAMP:20260424T142218
CREATED:20190103T100823Z
LAST-MODIFIED:20190103T100823Z
UID:486-1547373600-1547380800@gissacg.fr
SUMMARY:N2 - Réglementation\, FFESSM - Thierry T.
DESCRIPTION:
URL:https://gissacg.fr/index.php/event/n2-reglementation-ffessm-thierry-t/
LOCATION:Ti Dour\, 49 av. de Park Nevez\, 22300 Lannion\, France
CATEGORIES:Cours
END:VEVENT
END:VCALENDAR