BEGIN:VCALENDAR
VERSION:2.0
PRODID:-//GISSaCG - ECPv6.15.13.1//NONSGML v1.0//EN
CALSCALE:GREGORIAN
METHOD:PUBLISH
X-ORIGINAL-URL:https://gissacg.fr
X-WR-CALDESC:Évènements pour GISSaCG
REFRESH-INTERVAL;VALUE=DURATION:PT1H
X-Robots-Tag:noindex
X-PUBLISHED-TTL:PT1H
BEGIN:VTIMEZONE
TZID:Europe/Paris
BEGIN:DAYLIGHT
TZOFFSETFROM:+0100
TZOFFSETTO:+0200
TZNAME:CEST
DTSTART:20170326T010000
END:DAYLIGHT
BEGIN:STANDARD
TZOFFSETFROM:+0200
TZOFFSETTO:+0100
TZNAME:CET
DTSTART:20171029T010000
END:STANDARD
BEGIN:DAYLIGHT
TZOFFSETFROM:+0100
TZOFFSETTO:+0200
TZNAME:CEST
DTSTART:20180325T010000
END:DAYLIGHT
BEGIN:STANDARD
TZOFFSETFROM:+0200
TZOFFSETTO:+0100
TZNAME:CET
DTSTART:20181028T010000
END:STANDARD
BEGIN:DAYLIGHT
TZOFFSETFROM:+0100
TZOFFSETTO:+0200
TZNAME:CEST
DTSTART:20190331T010000
END:DAYLIGHT
BEGIN:STANDARD
TZOFFSETFROM:+0200
TZOFFSETTO:+0100
TZNAME:CET
DTSTART:20191027T010000
END:STANDARD
END:VTIMEZONE
BEGIN:VEVENT
DTSTART;TZID=Europe/Paris:20181209T075000
DTEND;TZID=Europe/Paris:20181209T093000
DTSTAMP:20260424T154520
CREATED:20181126T204800Z
LAST-MODIFIED:20181126T204800Z
UID:391-1544341800-1544347800@gissacg.fr
SUMMARY:Piscine
DESCRIPTION:
URL:https://gissacg.fr/index.php/event/piscine-3/
LOCATION:Ti Dour\, 49 av. de Park Nevez\, 22300 Lannion\, France
CATEGORIES:Piscine
END:VEVENT
BEGIN:VEVENT
DTSTART;TZID=Europe/Paris:20181209T100000
DTEND;TZID=Europe/Paris:20181209T120000
DTSTAMP:20260424T154520
CREATED:20181126T205057Z
LAST-MODIFIED:20181126T205243Z
UID:397-1544349600-1544356800@gissacg.fr
SUMMARY:Cours débutants N°1
DESCRIPTION:
URL:https://gissacg.fr/index.php/event/cours-debutant-n1/
LOCATION:Ti Dour\, 49 av. de Park Nevez\, 22300 Lannion\, France
CATEGORIES:Cours
END:VEVENT
END:VCALENDAR